BEGIN:VCALENDAR
VERSION:2.0
PRODID:-//eventon.com NONSGML v1.0//EN
CALSCALE:GREGORIAN
METHOD:PUBLISH
BEGIN:VEVENT
UID:69e4cb69bc4bf
DTSTAMP:20260419T123241Z
DTSTART:20260216T180000Z
DTEND:20260217T055900Z
LOCATION:
SUMMARY:200-Hour Instructor Training
DESCRIPTION:Created with flexibility and convenience in mind\,  immerse you
 rself in 13 weeks of live webinars\,  life groups and more\,  all from the 
 comfort of home. Click below for more information and registration deadline
 s. 200 Hour Registered Holy Yoga Instructor (C-HYI) Accreditation You may c
 hoose one of the two weekly class[..]\nhttps://holyyoga.net/event/200-hour-
 instructor-training-10/
URL:https://holyyoga.net/event/200-hour-instructor-training-10/
END:VEVENT
END:VCALENDAR